BEGIN:VCALENDAR
VERSION:2.0
PRODID:-//TAT Guides - ECPv6.15.20//NONSGML v1.0//EN
CALSCALE:GREGORIAN
METHOD:PUBLISH
X-WR-CALNAME:TAT Guides
X-ORIGINAL-URL:https://www.austriaguides.tirol
X-WR-CALDESC:Veranstaltungen für TAT Guides
REFRESH-INTERVAL;VALUE=DURATION:PT1H
X-Robots-Tag:noindex
X-PUBLISHED-TTL:PT1H
BEGIN:VTIMEZONE
TZID:Europe/Vienna
BEGIN:DAYLIGHT
TZOFFSETFROM:+0100
TZOFFSETTO:+0200
TZNAME:CEST
DTSTART:20230326T010000
END:DAYLIGHT
BEGIN:STANDARD
TZOFFSETFROM:+0200
TZOFFSETTO:+0100
TZNAME:CET
DTSTART:20231029T010000
END:STANDARD
BEGIN:DAYLIGHT
TZOFFSETFROM:+0100
TZOFFSETTO:+0200
TZNAME:CEST
DTSTART:20240331T010000
END:DAYLIGHT
BEGIN:STANDARD
TZOFFSETFROM:+0200
TZOFFSETTO:+0100
TZNAME:CET
DTSTART:20241027T010000
END:STANDARD
BEGIN:DAYLIGHT
TZOFFSETFROM:+0100
TZOFFSETTO:+0200
TZNAME:CEST
DTSTART:20250330T010000
END:DAYLIGHT
BEGIN:STANDARD
TZOFFSETFROM:+0200
TZOFFSETTO:+0100
TZNAME:CET
DTSTART:20251026T010000
END:STANDARD
BEGIN:DAYLIGHT
TZOFFSETFROM:+0100
TZOFFSETTO:+0200
TZNAME:CEST
DTSTART:20260329T010000
END:DAYLIGHT
BEGIN:STANDARD
TZOFFSETFROM:+0200
TZOFFSETTO:+0100
TZNAME:CET
DTSTART:20261025T010000
END:STANDARD
BEGIN:DAYLIGHT
TZOFFSETFROM:+0100
TZOFFSETTO:+0200
TZNAME:CEST
DTSTART:20270328T010000
END:DAYLIGHT
BEGIN:STANDARD
TZOFFSETFROM:+0200
TZOFFSETTO:+0100
TZNAME:CET
DTSTART:20271031T010000
END:STANDARD
END:VTIMEZONE
BEGIN:VEVENT
DTSTART;TZID=Europe/Vienna:20260221T180000
DTEND;TZID=Europe/Vienna:20260221T180000
DTSTAMP:20260421T131218
CREATED:20260111T195618Z
LAST-MODIFIED:20260111T200915Z
UID:10000837-1771696800-1771696800@www.austriaguides.tirol
SUMMARY:Welttag 2026: Nachtwächterführung
DESCRIPTION:Diese Veranstaltung findet im Rahmen des Welttags der Fremdenführer 2026 statt. \nTreffpunkt:\nStadtbrunnen Oberer Stadtplatz\, Hall in Tirol \nGuide:\nBarbara Löbau
URL:https://www.austriaguides.tirol/veranstaltung/welttag-2026-nachtwaechterfuehrung/
LOCATION:Hall in Tirol
CATEGORIES:öffentlich
END:VEVENT
BEGIN:VEVENT
DTSTART;TZID=Europe/Vienna:20260221T170000
DTEND;TZID=Europe/Vienna:20260221T180000
DTSTAMP:20260421T131218
CREATED:20260111T195618Z
LAST-MODIFIED:20260112T081649Z
UID:10000898-1771693200-1771696800@www.austriaguides.tirol
SUMMARY:Welttag 2026: Rotlichtbezirk Hall
DESCRIPTION:Diese Veranstaltung findet im Rahmen des Welttags der Fremdenführer 2026 statt. \nTreffpunkt:\nRathaus Innenhof\, Hall in Tirol \nGuide:\nEva Stockley
URL:https://www.austriaguides.tirol/veranstaltung/welttag-2026-rotlichtbezirk-hall/
LOCATION:Hall in Tirol
CATEGORIES:öffentlich
END:VEVENT
BEGIN:VEVENT
DTSTART;TZID=Europe/Vienna:20260221T160000
DTEND;TZID=Europe/Vienna:20260221T160000
DTSTAMP:20260421T131218
CREATED:20260111T195618Z
LAST-MODIFIED:20260111T200915Z
UID:10000894-1771689600-1771689600@www.austriaguides.tirol
SUMMARY:Welttag 2026: Prost und Mahlzeit - Wirtshausgeschichte Hall
DESCRIPTION:Diese Veranstaltung findet im Rahmen des Welttags der Fremdenführer 2026 statt. \nTreffpunkt:\nTourismusbüro Unterer Stadtplatz 19\, Hall in Tirol \nGuide:\nKatharina Nagy
URL:https://www.austriaguides.tirol/veranstaltung/welttag-2026-prost-und-mahlzeit-wirtshausgeschichte-hall/
LOCATION:Hall in Tirol
CATEGORIES:öffentlich
END:VEVENT
BEGIN:VEVENT
DTSTART;TZID=Europe/Vienna:20260221T150000
DTEND;TZID=Europe/Vienna:20260221T160000
DTSTAMP:20260421T131218
CREATED:20260111T195618Z
LAST-MODIFIED:20260220T093029Z
UID:10000887-1771686000-1771689600@www.austriaguides.tirol
SUMMARY:Welttag 2026: Geheimnisvolles Hall
DESCRIPTION:Diese Veranstaltung findet im Rahmen des Welttags der Fremdenführer 2026 statt. \nTreffpunkt:\nTourismusbüro Unterer Stadtplatz 19\, Hall in Tirol \nGuide:\nClaudia Himmler
URL:https://www.austriaguides.tirol/veranstaltung/welttag-2026-geheimnisvolles-hall/
LOCATION:Hall in Tirol
CATEGORIES:öffentlich
END:VEVENT
BEGIN:VEVENT
DTSTART;TZID=Europe/Vienna:20260221T140000
DTEND;TZID=Europe/Vienna:20260221T150000
DTSTAMP:20260421T131218
CREATED:20260111T195618Z
LAST-MODIFIED:20260111T201340Z
UID:10000880-1771682400-1771686000@www.austriaguides.tirol
SUMMARY:Welttag 2026: Reise ins Mittelalter 14:00
DESCRIPTION:Diese Veranstaltung findet im Rahmen des Welttags der Fremdenführer 2026 statt. \nTreffpunkt:\nTourismusbüro Unterer Stadtplatz 19\, Hall in Tirol \nGuide:\nHarald Froidl
URL:https://www.austriaguides.tirol/veranstaltung/welttag-2026-reise-ins-mittelalter-2/
LOCATION:Hall in Tirol
CATEGORIES:öffentlich
END:VEVENT
BEGIN:VEVENT
DTSTART;TZID=Europe/Vienna:20260221T130000
DTEND;TZID=Europe/Vienna:20260221T130000
DTSTAMP:20260421T131218
CREATED:20260111T195618Z
LAST-MODIFIED:20260111T200915Z
UID:10000871-1771678800-1771678800@www.austriaguides.tirol
SUMMARY:Welttag 2026: Georgskapelle
DESCRIPTION:Diese Veranstaltung findet im Rahmen des Welttags der Fremdenführer 2026 statt. \nTreffpunkt:\nTourismusbüro Unterer Stadtplatz 19\, Hall in Tirol \nGuide:\nMonika Wallas
URL:https://www.austriaguides.tirol/veranstaltung/welttag-2026-georgskapelle/
LOCATION:Hall in Tirol
CATEGORIES:öffentlich
END:VEVENT
BEGIN:VEVENT
DTSTART;TZID=Europe/Vienna:20260221T120000
DTEND;TZID=Europe/Vienna:20260221T130000
DTSTAMP:20260421T131218
CREATED:20260111T195618Z
LAST-MODIFIED:20260111T201352Z
UID:10000866-1771675200-1771678800@www.austriaguides.tirol
SUMMARY:Welttag 2026: Reise ins Mittelalter 12:00
DESCRIPTION:Diese Veranstaltung findet im Rahmen des Welttags der Fremdenführer 2026 statt. \nTreffpunkt:\nTourismusbüro Unterer Stadtplatz 19\, Hall in Tirol \nGuide:\nLisa Holluschek
URL:https://www.austriaguides.tirol/veranstaltung/welttag-2026-reise-ins-mittelalter/
LOCATION:Hall in Tirol
CATEGORIES:öffentlich
END:VEVENT
BEGIN:VEVENT
DTSTART;TZID=Europe/Vienna:20260221T110000
DTEND;TZID=Europe/Vienna:20260221T110000
DTSTAMP:20260421T131218
CREATED:20260111T195618Z
LAST-MODIFIED:20260111T200915Z
UID:10000857-1771671600-1771671600@www.austriaguides.tirol
SUMMARY:Welttag 2026: Geld regiert die Welt
DESCRIPTION:Diese Veranstaltung findet im Rahmen des Welttags der Fremdenführer 2026 statt. \nTreffpunkt:\nTourismusbüro Unterer Stadtplatz 19\, Hall in Tirol \nGuide:\nJanine Heißl
URL:https://www.austriaguides.tirol/veranstaltung/welttag-2026-geld-regiert-die-welt/
LOCATION:Hall in Tirol
CATEGORIES:öffentlich
END:VEVENT
BEGIN:VEVENT
DTSTART;TZID=Europe/Vienna:20260221T100000
DTEND;TZID=Europe/Vienna:20260221T100000
DTSTAMP:20260421T131218
CREATED:20260111T195618Z
LAST-MODIFIED:20260111T200915Z
UID:10000847-1771668000-1771668000@www.austriaguides.tirol
SUMMARY:Welttag 2026: Solbad Hall\, Bergbaumuseum
DESCRIPTION:Diese Veranstaltung findet im Rahmen des Welttags der Fremdenführer 2026 statt. \nTreffpunkt:\nKurhaus Hall\, Hall in Tirol \nGuide:\nAnita Töchterle-Graber
URL:https://www.austriaguides.tirol/veranstaltung/welttag-2026-solbad-hall-bergbaumuseum/
LOCATION:Hall in Tirol
CATEGORIES:öffentlich
END:VEVENT
BEGIN:VEVENT
DTSTART;TZID=Europe/Vienna:20250222T170000
DTEND;TZID=Europe/Vienna:20250222T183000
DTSTAMP:20260421T131218
CREATED:20250122T114658Z
LAST-MODIFIED:20250127T083601Z
UID:10000759-1740243600-1740249000@www.austriaguides.tirol
SUMMARY:Welttag 2025: Rotlichtbezirk Hall - Stadtführung
DESCRIPTION:Diese Veranstaltung findet im Rahmen des Welttags der Fremdenführer 2025 statt. \nTreffpunkt:\nInnenhof\, Rathaus Hall\, Hall in Tirol \nGuide:\nEva Stockley
URL:https://www.austriaguides.tirol/veranstaltung/welttag-2025-rotlicthbezirk-hall-stadtfuehrung/
LOCATION:Hall in Tirol
CATEGORIES:öffentlich
END:VEVENT
BEGIN:VEVENT
DTSTART;TZID=Europe/Vienna:20250222T160000
DTEND;TZID=Europe/Vienna:20250222T173000
DTSTAMP:20260421T131218
CREATED:20250122T114659Z
LAST-MODIFIED:20250221T095039Z
UID:10000762-1740240000-1740245400@www.austriaguides.tirol
SUMMARY:Welttag 2025: Reise ins Mittelalter - Klassische Stadtführung Hall in Tirol 16:00
DESCRIPTION:Diese Veranstaltung findet im Rahmen des Welttags der Fremdenführer 2025 statt. \nTreffpunkt:\nTourismusbüro Unterer Stadtplatz 19\, Hall in Tirol \nGuide:\nHarald Froidl
URL:https://www.austriaguides.tirol/veranstaltung/welttag-2025-reise-ins-mittelalter-klassische-stadtfuehrung-2/
LOCATION:Hall in Tirol
CATEGORIES:öffentlich
END:VEVENT
BEGIN:VEVENT
DTSTART;TZID=Europe/Vienna:20250222T150000
DTEND;TZID=Europe/Vienna:20250222T163000
DTSTAMP:20260421T131218
CREATED:20250122T114659Z
LAST-MODIFIED:20250122T114659Z
UID:10000768-1740236400-1740241800@www.austriaguides.tirol
SUMMARY:Welttag 2025: Beben\, Pest & Feuersbrünste - Stadtführung
DESCRIPTION:Diese Veranstaltung findet im Rahmen des Welttags der Fremdenführer 2025 statt. \nTreffpunkt:\nTourismusbüro Unterer Stadtplatz 19\, Hall in Tirol \nGuide:\nAnita Töchterle-Graber
URL:https://www.austriaguides.tirol/veranstaltung/welttag-2025-beben-pest-feuersbruenste-stadtfuehrung/
LOCATION:Hall in Tirol
CATEGORIES:öffentlich
END:VEVENT
BEGIN:VEVENT
DTSTART;TZID=Europe/Vienna:20250222T140000
DTEND;TZID=Europe/Vienna:20250222T153000
DTSTAMP:20260421T131218
CREATED:20250122T114700Z
LAST-MODIFIED:20250122T114700Z
UID:10000777-1740232800-1740238200@www.austriaguides.tirol
SUMMARY:Welttag 2025: Leiterwagenführung - Familienstadtführung
DESCRIPTION:Diese Veranstaltung findet im Rahmen des Welttags der Fremdenführer 2025 statt. \nTreffpunkt:\nTourismusbüro Unterer Stadtplatz 19\, Hall in Tirol \nGuide:\nSandra Elsler
URL:https://www.austriaguides.tirol/veranstaltung/welttag-2025-leiterwagenfuehrung-familienstadtfuehrung/
LOCATION:Hall in Tirol
CATEGORIES:öffentlich
END:VEVENT
BEGIN:VEVENT
DTSTART;TZID=Europe/Vienna:20250222T120000
DTEND;TZID=Europe/Vienna:20250222T133000
DTSTAMP:20260421T131218
CREATED:20250122T114701Z
LAST-MODIFIED:20250122T114701Z
UID:10000786-1740225600-1740231000@www.austriaguides.tirol
SUMMARY:Welttag 2025: Wirtshausgeschichte über die Jahrhunderte - Stadtführung
DESCRIPTION:Diese Veranstaltung findet im Rahmen des Welttags der Fremdenführer 2025 statt. \nTreffpunkt:\nTourismusbüro Unterer Stadtplatz 19\, Hall in Tirol \nGuide:\nKatharina Nagy
URL:https://www.austriaguides.tirol/veranstaltung/welttag-2025-wirtshausgeschichte-ueber-die-jahrhunderte-stadtfuehrung/
LOCATION:Hall in Tirol
CATEGORIES:öffentlich
END:VEVENT
BEGIN:VEVENT
DTSTART;TZID=Europe/Vienna:20250222T113000
DTEND;TZID=Europe/Vienna:20250222T130000
DTSTAMP:20260421T131218
CREATED:20250122T114702Z
LAST-MODIFIED:20250211T110445Z
UID:10000792-1740223800-1740229200@www.austriaguides.tirol
SUMMARY:Welttag 2025: Das Weiße Gold - Bergbaumuseum Hall
DESCRIPTION:Diese Veranstaltung findet im Rahmen des Welttags der Fremdenführer 2025 statt. \nTreffpunkt:\nFürstengasse 2\, Hall in Tirol \nGuide:\nSandra Elsler
URL:https://www.austriaguides.tirol/veranstaltung/welttag-2025-das-weisse-gold-bergbaumuseum-hall/
LOCATION:Hall in Tirol
CATEGORIES:öffentlich
END:VEVENT
BEGIN:VEVENT
DTSTART;TZID=Europe/Vienna:20250222T113000
DTEND;TZID=Europe/Vienna:20250222T130000
DTSTAMP:20260421T131218
CREATED:20250122T114702Z
LAST-MODIFIED:20250122T114702Z
UID:10000793-1740223800-1740229200@www.austriaguides.tirol
SUMMARY:Welttag 2025: Maximillian I. Und die Georgskapelle in der Burg Hasegg
DESCRIPTION:Diese Veranstaltung findet im Rahmen des Welttags der Fremdenführer 2025 statt. \nTreffpunkt:\nTourismusbüro Unterer Stadtplatz 19\, Hall in Tirol \nGuide:\nMonika Wallas
URL:https://www.austriaguides.tirol/veranstaltung/welttag-2025-maximillian-i-und-die-georgskapelle-in-der-burg-hasegg-2/
LOCATION:Hall in Tirol
CATEGORIES:öffentlich
END:VEVENT
BEGIN:VEVENT
DTSTART;TZID=Europe/Vienna:20250222T110000
DTEND;TZID=Europe/Vienna:20250222T123000
DTSTAMP:20260421T131218
CREATED:20250122T114703Z
LAST-MODIFIED:20250127T083547Z
UID:10000800-1740222000-1740227400@www.austriaguides.tirol
SUMMARY:Welttag 2025: Geheimnisvolles Hall - Haller Stadtgeschichte(n)
DESCRIPTION:Diese Veranstaltung findet im Rahmen des Welttags der Fremdenführer 2025 statt. \nTreffpunkt:\nTourismusbüro Unterer Stadtplatz 19\, Hall in Tirol \nGuide:\nLisa Holluschek
URL:https://www.austriaguides.tirol/veranstaltung/welttag-2025-geheimnisvolles-halls-haller-stadtgeschichten/
LOCATION:Hall in Tirol
CATEGORIES:öffentlich
END:VEVENT
BEGIN:VEVENT
DTSTART;TZID=Europe/Vienna:20250222T103000
DTEND;TZID=Europe/Vienna:20250222T120000
DTSTAMP:20260421T131218
CREATED:20250122T114704Z
LAST-MODIFIED:20250122T114704Z
UID:10000806-1740220200-1740225600@www.austriaguides.tirol
SUMMARY:Welttag 2025: Geld regiert die Welt - Museum Münze Hall
DESCRIPTION:Diese Veranstaltung findet im Rahmen des Welttags der Fremdenführer 2025 statt. \nTreffpunkt:\nTourismusbüro Unterer Stadtplatz 19\, Hall in Tirol \nGuide:\nBarbara Löbau
URL:https://www.austriaguides.tirol/veranstaltung/welttag-2025-geld-regiert-die-welt-museum-muenze-hall/
LOCATION:Hall in Tirol
CATEGORIES:öffentlich
END:VEVENT
BEGIN:VEVENT
DTSTART;TZID=Europe/Vienna:20250222T100000
DTEND;TZID=Europe/Vienna:20250222T113000
DTSTAMP:20260421T131218
CREATED:20250122T114704Z
LAST-MODIFIED:20250221T095019Z
UID:10000812-1740218400-1740223800@www.austriaguides.tirol
SUMMARY:Welttag 2025: Reise ins Mittelalter - Klassische Stadtführung Hall in Tirol 10:00
DESCRIPTION:Diese Veranstaltung findet im Rahmen des Welttags der Fremdenführer 2025 statt. \nTreffpunkt:\nTourismusbüro Unterer Stadtplatz 19\, Hall in Tirol \nGuide:\nAnita Töchterle-Graber
URL:https://www.austriaguides.tirol/veranstaltung/welttag-2025-reise-ins-mittelalter-klassische-stadtfuehrung/
LOCATION:Hall in Tirol
CATEGORIES:öffentlich
END:VEVENT
BEGIN:VEVENT
DTSTART;TZID=Europe/Vienna:20250222T093000
DTEND;TZID=Europe/Vienna:20250222T110000
DTSTAMP:20260421T131218
CREATED:20250122T114705Z
LAST-MODIFIED:20250122T114705Z
UID:10000818-1740216600-1740222000@www.austriaguides.tirol
SUMMARY:Welttag 2025: Maximillian I. Und die Georgskapelle in der Burg Hasegg
DESCRIPTION:Diese Veranstaltung findet im Rahmen des Welttags der Fremdenführer 2025 statt. \nTreffpunkt:\nTourismusbüro Unterer Stadtplatz 19\, Hall in Tirol \nGuide:\nMonika Wallas
URL:https://www.austriaguides.tirol/veranstaltung/welttag-2025-maximillian-i-und-die-georgskapelle-in-der-burg-hasegg/
LOCATION:Hall in Tirol
CATEGORIES:öffentlich
END:VEVENT
BEGIN:VEVENT
DTSTART;TZID=Europe/Vienna:20250222T090000
DTEND;TZID=Europe/Vienna:20250222T103000
DTSTAMP:20260421T131218
CREATED:20250122T114705Z
LAST-MODIFIED:20250122T114705Z
UID:10000820-1740214800-1740220200@www.austriaguides.tirol
SUMMARY:Welttag 2025: Handwerk hat goldenen Boden - Stadtführung
DESCRIPTION:Diese Veranstaltung findet im Rahmen des Welttags der Fremdenführer 2025 statt. \nTreffpunkt:\nTourismusbüro Unterer Stadtplatz 19\, Hall in Tirol \nGuide:\nJanine Heißl
URL:https://www.austriaguides.tirol/veranstaltung/welttag-2025-handwerk-hat-goldenen-boden-stadtfuehrung/
LOCATION:Hall in Tirol
CATEGORIES:öffentlich
END:VEVENT
BEGIN:VEVENT
DTSTART;TZID=Europe/Vienna:20240708T150000
DTEND;TZID=Europe/Vienna:20240708T170000
DTSTAMP:20260421T131218
CREATED:20240404T161542Z
LAST-MODIFIED:20240405T073758Z
UID:10000746-1720450800-1720458000@www.austriaguides.tirol
SUMMARY:„Salesianerinnenkloster Thurnfeld\, Hall in Tirol “
DESCRIPTION:Salesianerinnenkloster Thurnfeld\, Hall in Tirol  \nEin überraschender Neufund wurde im Zuge der Adaptierung einiger ehemaliger Klosterräume für die Schulnutzung gemacht: Landschaftsveduten in spätbarocker Architekturrahmung geben dem Konferenz- und Besprechungszimmer der Berufsschule ein mediterranes Gepräge. Gleich daneben befindet sich die Hauskapelle des so genannten „Alten Hauses“ im Salesianerinnenkloster Thurnfeld mit Wand- und Deckenmalereien von Caspar Waldmann und einem Renaissanceretabel von herausragender Qualität. Der 1584 benedizierte Säulenaltar mit Dreieckgiebel und Seitenflügeln zeigt im offenen Zustand neun Bildfelder mit Szenen aus dem Leben Jesu\, an den Flügelinnenseiten sechs Heiligendarstellungen. Die Außenseiten der Altarflügel und die Rückwand des Altarschreines mit den Abbildungen der vier Heiligen Kunigunde\, Wolfgang\, Andreas und Petrus stammen von Lukas Cranach (um 1520). \nDer Cranachaltar wurde am Tag des Denkmals 2014 einer breiteren Öffentlichkeit zugänglich gemacht. Am MO 8. Juli 2024 bietet sich zum ersten Mal wieder die Gelegenheit\, im Rahmen unserer TaT-Fortbildung den fantastischen Cranachaltar in der Hauskapelle aus nächster Nähe zu besichtigen. Auch die Nutzung großer Teile des umfunktionierten Klosters als Berufsschule des Landes Tirol sowie das Landwirtschaftsprojekt EMMAUS im ehemaligen Klostergarten werden Thema an diesem Nachmittag sein. \nFoto: bda  \nTitel: Salesianerinnenkloster Thurnfeld\, Hall in Tirol  \nTermin: 8.7.2024 um 15:00 – 17:00\nTreffpunkt: Haupteingang Tiroler Fachberufsschule für Garten\, Raum und Mode\, Kaiser-Max-Straße 3\, 6060 Hall in Tirol\nReferentInnen: Anita Töchterle-Graber\, Michael Radowski (Schuldirektion)\, Benedikt Zecha (Emmausprojekt)\nDauer: ca. 2 Stunde\nMax. TeilnehmerInnenzahl: max. 25 Personen\nAnmeldeschluss: 07.7.2024 um 13:00 Uhr
URL:https://www.austriaguides.tirol/veranstaltung/salesianerinnenkloster-thurnfeld-hall-in-tirol/
LOCATION:Hall in Tirol
CATEGORIES:Intern
ATTACH;FMTTYPE=image/jpeg:https://www.austriaguides.tirol/wp-content/uploads/2024/04/111472_Hall_Thurnfeld-Kapelle_Michaela-Frick-scaled.jpg
END:VEVENT
BEGIN:VEVENT
DTSTART;TZID=Europe/Vienna:20240224T170000
DTEND;TZID=Europe/Vienna:20240224T183000
DTSTAMP:20260421T131218
CREATED:20240115T122900Z
LAST-MODIFIED:20240223T101700Z
UID:10000674-1708794000-1708799400@www.austriaguides.tirol
SUMMARY:Welttag 2024: Prost & Mahlzeit!
DESCRIPTION:Diese Veranstaltung findet im Rahmen des Welttags der Fremdenführer 2024 statt. \nTreffpunkt:\nTourismusbüro Hall\, Unterer Stadtplatz 19\, Hall in Tirol \nGuide:\nKatharina Nagy
URL:https://www.austriaguides.tirol/veranstaltung/welttag-2024-prost-mahlzeit/
LOCATION:Hall in Tirol
CATEGORIES:öffentlich
END:VEVENT
BEGIN:VEVENT
DTSTART;TZID=Europe/Vienna:20240224T160000
DTEND;TZID=Europe/Vienna:20240224T173000
DTSTAMP:20260421T131218
CREATED:20240115T122900Z
LAST-MODIFIED:20240223T101539Z
UID:10000676-1708790400-1708795800@www.austriaguides.tirol
SUMMARY:Welttag 2024: Rotlichtbezirk Hall
DESCRIPTION:Diese Veranstaltung findet im Rahmen des Welttags der Fremdenführer 2024 statt. \nTreffpunkt:\nRathaus Hall\, Innenhof\, Hall in Tirol \nGuide:\nEva Stockley
URL:https://www.austriaguides.tirol/veranstaltung/welttag-2024-rotlichtbezirk-hall/
LOCATION:Hall in Tirol
CATEGORIES:öffentlich
END:VEVENT
BEGIN:VEVENT
DTSTART;TZID=Europe/Vienna:20240224T150000
DTEND;TZID=Europe/Vienna:20240224T163000
DTSTAMP:20260421T131218
CREATED:20240115T122900Z
LAST-MODIFIED:20240223T101741Z
UID:10000679-1708786800-1708792200@www.austriaguides.tirol
SUMMARY:Welttag 2024: Museum Münze Hall – Geld regiert die Welt
DESCRIPTION:Diese Veranstaltung findet im Rahmen des Welttags der Fremdenführer 2024 statt. \nTreffpunkt:\nTourismusbüro Hall\, Unterer Stadtplatz 19\, Hall in Tirol \nGuide:\nClemens Lindig
URL:https://www.austriaguides.tirol/veranstaltung/welttag-2024-museum-muenze-hall-geld-regiert-die-welt/
LOCATION:Hall in Tirol
CATEGORIES:öffentlich
END:VEVENT
BEGIN:VEVENT
DTSTART;TZID=Europe/Vienna:20240224T140000
DTEND;TZID=Europe/Vienna:20240224T153000
DTSTAMP:20260421T131218
CREATED:20240115T122900Z
LAST-MODIFIED:20240223T101540Z
UID:10000686-1708783200-1708788600@www.austriaguides.tirol
SUMMARY:Welttag 2024: Familienstadtführung – Wie das Salz in der Suppe
DESCRIPTION:Diese Veranstaltung findet im Rahmen des Welttags der Fremdenführer 2024 statt. \nTreffpunkt:\nTourismusbüro Hall\, Unterer Stadtplatz 19\, Hall in Tirol \nGuide:\nSandra Elsler
URL:https://www.austriaguides.tirol/veranstaltung/welttag-2024-familienstadtfuehrung-wie-das-salz-in-der-suppe/
LOCATION:Hall in Tirol
CATEGORIES:öffentlich
END:VEVENT
BEGIN:VEVENT
DTSTART;TZID=Europe/Vienna:20240224T130000
DTEND;TZID=Europe/Vienna:20240224T143000
DTSTAMP:20260421T131218
CREATED:20240115T122900Z
LAST-MODIFIED:20240223T101528Z
UID:10000693-1708779600-1708785000@www.austriaguides.tirol
SUMMARY:Welttag 2024: Beben\, Pest & Feuersbrünste
DESCRIPTION:Diese Veranstaltung findet im Rahmen des Welttags der Fremdenführer 2024 statt. \nTreffpunkt:\nTourismusbüro Hall\, Unterer Stadtplatz 19\, Hall in Tirol \nGuide:\nAnita Töchterle-Graber
URL:https://www.austriaguides.tirol/veranstaltung/welttag-2024-beben-pest-feuersbruenste/
LOCATION:Hall in Tirol
CATEGORIES:öffentlich
END:VEVENT
BEGIN:VEVENT
DTSTART;TZID=Europe/Vienna:20240224T120000
DTEND;TZID=Europe/Vienna:20240224T133000
DTSTAMP:20260421T131218
CREATED:20240115T122900Z
LAST-MODIFIED:20240223T101512Z
UID:10000699-1708776000-1708781400@www.austriaguides.tirol
SUMMARY:Welttag 2024: Klassische Stadtführung – Reise ins Mittelalter
DESCRIPTION:Diese Veranstaltung findet im Rahmen des Welttags der Fremdenführer 2024 statt. \nTreffpunkt:\nTourismusbüro Hall\, Unterer Stadtplatz 19\, Hall in Tirol \nGuide:\nSandra Steiner
URL:https://www.austriaguides.tirol/veranstaltung/welttag-2024-klassische-stadtfuehrung-reise-ins-mittelalter-2/
LOCATION:Hall in Tirol
CATEGORIES:öffentlich
END:VEVENT
BEGIN:VEVENT
DTSTART;TZID=Europe/Vienna:20240224T113000
DTEND;TZID=Europe/Vienna:20240224T123000
DTSTAMP:20260421T131218
CREATED:20240115T122900Z
LAST-MODIFIED:20240223T101853Z
UID:10000704-1708774200-1708777800@www.austriaguides.tirol
SUMMARY:Welttag 2024: Bergbaumuseum Hall – Am Anfang war das Salz
DESCRIPTION:Diese Veranstaltung findet im Rahmen des Welttags der Fremdenführer 2024 statt. \nTreffpunkt:\nBergbaumuseum Hall\, Fürstengasse 2\, Hall in Tirol \nGuide:\nSandra Elsler
URL:https://www.austriaguides.tirol/veranstaltung/welttag-2024-bergbaumuseum-hall-am-anfang-war-das-salz/
LOCATION:Hall in Tirol
CATEGORIES:öffentlich
END:VEVENT
BEGIN:VEVENT
DTSTART;TZID=Europe/Vienna:20240224T110000
DTEND;TZID=Europe/Vienna:20240224T123000
DTSTAMP:20260421T131218
CREATED:20240115T122900Z
LAST-MODIFIED:20240223T101445Z
UID:10000710-1708772400-1708777800@www.austriaguides.tirol
SUMMARY:Welttag 2024: Der Inn und die Schifffahrt
DESCRIPTION:Diese Veranstaltung findet im Rahmen des Welttags der Fremdenführer 2024 statt. \nTreffpunkt:\nTourismusbüro Hall\, Unterer Stadtplatz 19\, Hall in Tirol \nGuide:\nBarbara Löbau
URL:https://www.austriaguides.tirol/veranstaltung/welttag-2024-der-inn-und-die-schifffahrt/
LOCATION:Hall in Tirol
CATEGORIES:öffentlich
END:VEVENT
END:VCALENDAR